BEGIN:VCALENDAR
VERSION:2.0
PRODID:-//FUTURO - Projeto das 100 mil árvores - ECPv6.15.20//NONSGML v1.0//EN
CALSCALE:GREGORIAN
METHOD:PUBLISH
X-ORIGINAL-URL:https://www.100milarvores.pt
X-WR-CALDESC:Eventos para FUTURO - Projeto das 100 mil árvores
REFRESH-INTERVAL;VALUE=DURATION:PT1H
X-Robots-Tag:noindex
X-PUBLISHED-TTL:PT1H
BEGIN:VTIMEZONE
TZID:UTC
BEGIN:STANDARD
TZOFFSETFROM:+0000
TZOFFSETTO:+0000
TZNAME:UTC
DTSTART:20250101T000000
END:STANDARD
END:VTIMEZONE
BEGIN:VEVENT
DTSTART;TZID=UTC:20260221T140000
DTEND;TZID=UTC:20260221T173000
DTSTAMP:20260421T110632
CREATED:20260209T150650Z
LAST-MODIFIED:20260209T150717Z
UID:17614-1771682400-1771695000@www.100milarvores.pt
SUMMARY:Plantação | Valongo
DESCRIPTION:Ação de plantação em Valongo. Mais informação\, consulte o convite aqui. \nInscrição individual obrigatória e limitada a 50 participantes. \nO transporte é da responsabilidade do voluntário.
URL:https://www.100milarvores.pt/evento/plantacao-valongo-12
CATEGORIES:Plantação
END:VEVENT
END:VCALENDAR