BEGIN:VCALENDAR
VERSION:2.0
PRODID:-//FUTURO - Projeto das 100 mil árvores - ECPv6.15.20//NONSGML v1.0//EN
CALSCALE:GREGORIAN
METHOD:PUBLISH
X-ORIGINAL-URL:https://www.100milarvores.pt
X-WR-CALDESC:Eventos para FUTURO - Projeto das 100 mil árvores
REFRESH-INTERVAL;VALUE=DURATION:PT1H
X-Robots-Tag:noindex
X-PUBLISHED-TTL:PT1H
BEGIN:VTIMEZONE
TZID:UTC
BEGIN:STANDARD
TZOFFSETFROM:+0000
TZOFFSETTO:+0000
TZNAME:UTC
DTSTART:20160101T000000
END:STANDARD
END:VTIMEZONE
BEGIN:VEVENT
DTSTART;TZID=UTC:20170128T093000
DTEND;TZID=UTC:20170128T130000
DTSTAMP:20260423T222934
CREATED:20170112T164328Z
LAST-MODIFIED:20170116T183041Z
UID:10494-1485595800-1485608400@www.100milarvores.pt
SUMMARY:Plantação | Trofa
DESCRIPTION:Regressamos ao Monte da Paradela (Trofa) para plantar mais uma faixa de terreno em área do FUTURO. Esta atividade desenvolvida no âmbito do FUTURO – projeto das 100.000 árvores na Área Metropolitana do Porto\, é organizada pela Câmara Municipal da Trofa e o CRE.Porto em colaboração com a Associação de Silvicultores do Vale do Ave. As árvores (todas nativas) são fornecidas pelo Programa Floresta Comum. \nMais informação sobre a ação aqui. \nInscrições gratuítas mas obrigatórias aqui.
URL:https://www.100milarvores.pt/evento/plantacao-trofa-2
CATEGORIES:Plantação
END:VEVENT
END:VCALENDAR