BEGIN:VCALENDAR
VERSION:2.0
PRODID:-//FUTURO - Projeto das 100 mil árvores - ECPv6.15.20//NONSGML v1.0//EN
CALSCALE:GREGORIAN
METHOD:PUBLISH
X-WR-CALNAME:FUTURO - Projeto das 100 mil árvores
X-ORIGINAL-URL:https://www.100milarvores.pt
X-WR-CALDESC:Eventos para FUTURO - Projeto das 100 mil árvores
REFRESH-INTERVAL;VALUE=DURATION:PT1H
X-Robots-Tag:noindex
X-PUBLISHED-TTL:PT1H
BEGIN:VTIMEZONE
TZID:UTC
BEGIN:STANDARD
TZOFFSETFROM:+0000
TZOFFSETTO:+0000
TZNAME:UTC
DTSTART:20190101T000000
END:STANDARD
END:VTIMEZONE
BEGIN:VEVENT
DTSTART;TZID=UTC:20201014T093000
DTEND;TZID=UTC:20201014T130000
DTSTAMP:20260423T090025
CREATED:20201006T140801Z
LAST-MODIFIED:20201006T141601Z
UID:13759-1602667800-1602680400@www.100milarvores.pt
SUMMARY:Controlo de Invasoras | Gondomar
DESCRIPTION:Ação de controlo de plantas invasoras no Monte Crasto\, Gondomar. \nNúmero limite de participantes: 9\, maiores de 16 anos. \nInscrições (Após a sua inscrição enviaremos recomendações\, coordenadas geográficas exatas e outras informações úteis para o seu e-mail.) \nEsta ação\, desenvolvida no âmbito do FUTURO e da Semana Nacional sobre Espécies Inovasoras\, é organizada pela Câmara Municipal de Gondomar e o CRE.Porto. O CRE.Porto é uma rede de educação-ação para a sustentabilidade liderada pela Universidade Católica Portuguesa – Porto e pela Área Metropolitana do Porto. \nA Semana Nacional sobre Espécies Invasoras decorre em Portugal de 10 a 18 de outubro 2020 e tem como objectivo aumentar a sensibilização sobre as invasões biológicas a nível nacional. A equipa da Plataforma INVASORAS.PT \, que inclui investigadores do Centre for Functional Ecology\, do Departamento de Ciências da Vida da Universidade de Coimbra e da Escola Superior Agrária do Instituto Politécnico de Coimbra\, juntou-se a diversas Entidades/ Associações/ Grupos informais e organizam ações diversificadas sobre espécies exóticas invasoras.
URL:https://www.100milarvores.pt/evento/controlo-de-invasoras-gondomar-2
CATEGORIES:Controlo de plantas invasoras
ORGANIZER;CN="CRE.Porto":MAILTO:porto.cre@gmail.com
END:VEVENT
BEGIN:VEVENT
DTSTART;TZID=UTC:20201014T140000
DTEND;TZID=UTC:20201014T170000
DTSTAMP:20260423T090025
CREATED:20201006T141825Z
LAST-MODIFIED:20201006T141825Z
UID:13763-1602684000-1602694800@www.100milarvores.pt
SUMMARY:Controlo de Invasoras | Gondomar
DESCRIPTION:Ação de controlo de plantas invasoras no Monte Crasto\, Gondomar. \nNúmero limite de participantes: 9\, maiores de 16 anos. \nInscrições (Após a sua inscrição enviaremos recomendações\, coordenadas geográficas exatas e outras informações úteis para o seu e-mail.) \nEsta ação\, desenvolvida no âmbito do FUTURO e da Semana Nacional sobre Espécies Inovasoras\, é organizada pela Câmara Municipal de Gondomar e o CRE.Porto. O CRE.Porto é uma rede de educação-ação para a sustentabilidade liderada pela Universidade Católica Portuguesa – Porto e pela Área Metropolitana do Porto. \nA Semana Nacional sobre Espécies Invasoras decorre em Portugal de 10 a 18 de outubro 2020 e tem como objectivo aumentar a sensibilização sobre as invasões biológicas a nível nacional. A equipa da Plataforma INVASORAS.PT \, que inclui investigadores do Centre for Functional Ecology\, do Departamento de Ciências da Vida da Universidade de Coimbra e da Escola Superior Agrária do Instituto Politécnico de Coimbra\, juntou-se a diversas Entidades/ Associações/ Grupos informais e organizam ações diversificadas sobre espécies exóticas invasoras.
URL:https://www.100milarvores.pt/evento/controlo-de-invasoras-gondomar-3
CATEGORIES:Controlo de plantas invasoras
ORGANIZER;CN="CRE.Porto":MAILTO:porto.cre@gmail.com
END:VEVENT
END:VCALENDAR