BEGIN:VCALENDAR
VERSION:2.0
PRODID:-//FUTURO - Projeto das 100 mil árvores - ECPv6.15.20//NONSGML v1.0//EN
CALSCALE:GREGORIAN
METHOD:PUBLISH
X-ORIGINAL-URL:https://www.100milarvores.pt
X-WR-CALDESC:Eventos para FUTURO - Projeto das 100 mil árvores
REFRESH-INTERVAL;VALUE=DURATION:PT1H
X-Robots-Tag:noindex
X-PUBLISHED-TTL:PT1H
BEGIN:VTIMEZONE
TZID:UTC
BEGIN:STANDARD
TZOFFSETFROM:+0000
TZOFFSETTO:+0000
TZNAME:UTC
DTSTART:20160101T000000
END:STANDARD
END:VTIMEZONE
BEGIN:VEVENT
DTSTART;TZID=UTC:20170225T093000
DTEND;TZID=UTC:20170225T130000
DTSTAMP:20260419T125050
CREATED:20170201T175357Z
LAST-MODIFIED:20170219T120843Z
UID:10657-1488015000-1488027600@www.100milarvores.pt
SUMMARY:Plantação | Vila do Conde
DESCRIPTION:Plantação de 250 carvalhos alvarinhos e castanheiros junto à área da Cividade de Bagunte. Esta atividade desenvolvida no âmbito do FUTURO – projeto das 100.000 árvores na Área Metropolitana do Porto\, é organizada pelo CRE.Porto em parceria com a Câmara Municipal de Vila do Conde. Colabora a Portucalea – a Associação Florestal do Grande Porto e a Equipa de Sapadores Florestais de Vila do Conde. As árvores (todas nativas) são fornecidas pelo Viveiro de Árvores e Arbustos Autóctones do FUTURO. \nMais informação sobre a ação aqui. \nInscrições gratuítas mas obrigatórias aqui.
URL:https://www.100milarvores.pt/evento/plantacao-vila-do-conde-6
CATEGORIES:Plantação,Visita
END:VEVENT
END:VCALENDAR