BEGIN:VCALENDAR
VERSION:2.0
PRODID:-//FUTURO - Projeto das 100 mil árvores - ECPv6.15.20//NONSGML v1.0//EN
CALSCALE:GREGORIAN
METHOD:PUBLISH
X-WR-CALNAME:FUTURO - Projeto das 100 mil árvores
X-ORIGINAL-URL:https://www.100milarvores.pt
X-WR-CALDESC:Eventos para FUTURO - Projeto das 100 mil árvores
REFRESH-INTERVAL;VALUE=DURATION:PT1H
X-Robots-Tag:noindex
X-PUBLISHED-TTL:PT1H
BEGIN:VTIMEZONE
TZID:UTC
BEGIN:STANDARD
TZOFFSETFROM:+0000
TZOFFSETTO:+0000
TZNAME:UTC
DTSTART:20230101T000000
END:STANDARD
END:VTIMEZONE
BEGIN:VEVENT
DTSTART;TZID=UTC:20240605T093000
DTEND;TZID=UTC:20240605T123000
DTSTAMP:20260423T121718
CREATED:20240529T152732Z
LAST-MODIFIED:20240529T152732Z
UID:16837-1717579800-1717590600@www.100milarvores.pt
SUMMARY:Controlo de Invasoras | Gondomar
DESCRIPTION:Ação de voluntariado em Gondomar. \nPúblico-alvo: grupo Hôma \nEsta ação\, desenvolvida no âmbito do projeto FUTURO\, é organizada pelo Município de Gondomar e o CRE.Porto. O CRE.Porto é uma rede de educação-ação para a sustentabilidade liderada pela Universidade Católica Portuguesa e pela Área Metropolitana do Porto.
URL:https://www.100milarvores.pt/evento/controlo-de-invasoras-gondomar-5
CATEGORIES:Controlo de plantas invasoras
END:VEVENT
BEGIN:VEVENT
DTSTART;TZID=UTC:20240606T170000
DTEND;TZID=UTC:20240606T193000
DTSTAMP:20260423T121718
CREATED:20240529T152331Z
LAST-MODIFIED:20240529T152331Z
UID:16835-1717693200-1717702200@www.100milarvores.pt
SUMMARY:Controlo de Invasoras | Vale de Cambra
DESCRIPTION:Ação de voluntariado em Vale de Cambra. \nPúblico-alvo: público geral \nInscrição obrigatória: ceavc@cm-valedecambra.pt ou 913412214 \nNº limite de participantes: 15 \nEsta ação\, desenvolvida no âmbito do projeto FUTURO\, integrada na Semana Ambiente ’24 de Vale de Cambra\, é organizada pelo Município de Vale de Cambra e o CRE.Porto. O CRE.Porto é uma rede de educação-ação para a sustentabilidade liderada pela Universidade Católica Portuguesa e pela Área Metropolitana do Porto. \nMais informação no convite publicado\, aqui.
URL:https://www.100milarvores.pt/evento/controlo-de-invasoras-vale-de-cambra
CATEGORIES:Controlo de plantas invasoras
END:VEVENT
END:VCALENDAR