BEGIN:VCALENDAR
VERSION:2.0
PRODID:-//FUTURO - Projeto das 100 mil árvores - ECPv6.15.20//NONSGML v1.0//EN
CALSCALE:GREGORIAN
METHOD:PUBLISH
X-WR-CALNAME:FUTURO - Projeto das 100 mil árvores
X-ORIGINAL-URL:https://www.100milarvores.pt
X-WR-CALDESC:Eventos para FUTURO - Projeto das 100 mil árvores
REFRESH-INTERVAL;VALUE=DURATION:PT1H
X-Robots-Tag:noindex
X-PUBLISHED-TTL:PT1H
BEGIN:VTIMEZONE
TZID:UTC
BEGIN:STANDARD
TZOFFSETFROM:+0000
TZOFFSETTO:+0000
TZNAME:UTC
DTSTART:20220101T000000
END:STANDARD
END:VTIMEZONE
BEGIN:VEVENT
DTSTART;TZID=UTC:20230211T090000
DTEND;TZID=UTC:20230211T123000
DTSTAMP:20260424T115149
CREATED:20230201T175625Z
LAST-MODIFIED:20230201T175935Z
UID:16091-1676106000-1676118600@www.100milarvores.pt
SUMMARY:Controlo de invasoras | Valongo
DESCRIPTION:Ação de controlo de tintureira numa área plantada com espécies nativas\, no monte de Santa Justa\, Valongo. \nMais informação aqui. \nVagas limitadas a 60 voluntários. \nA ação\, está enquadrada nas atividades do European Green Leaf 2022 e desenvolvida no âmbito do FUTURO – projeto das 100.000 árvores na Área Metropolitana do Porto\, é organizada pelo Município de Valongo e o CRE.Porto. O CRE.Porto é uma rede de educação-ação para a sustentabilidade liderada pela Universidade Católica Portuguesa e pela Área Metropolitana do Porto.
URL:https://www.100milarvores.pt/evento/controlo-de-invasoras-valongo-3
CATEGORIES:Controlo de plantas invasoras
END:VEVENT
END:VCALENDAR